BEGIN:VCALENDAR
VERSION:2.0
PRODID:-//Defensive Shooting Concepts - ECPv6.15.20//NONSGML v1.0//EN
CALSCALE:GREGORIAN
METHOD:PUBLISH
X-WR-CALNAME:Defensive Shooting Concepts
X-ORIGINAL-URL:https://defensiveshootingconcepts.com
X-WR-CALDESC:Events for Defensive Shooting Concepts
REFRESH-INTERVAL;VALUE=DURATION:PT1H
X-Robots-Tag:noindex
X-PUBLISHED-TTL:PT1H
BEGIN:VTIMEZONE
TZID:America/Indiana/Indianapolis
BEGIN:DAYLIGHT
TZOFFSETFROM:-0500
TZOFFSETTO:-0400
TZNAME:EDT
DTSTART:20250309T070000
END:DAYLIGHT
BEGIN:STANDARD
TZOFFSETFROM:-0400
TZOFFSETTO:-0500
TZNAME:EST
DTSTART:20251102T060000
END:STANDARD
BEGIN:DAYLIGHT
TZOFFSETFROM:-0500
TZOFFSETTO:-0400
TZNAME:EDT
DTSTART:20260308T070000
END:DAYLIGHT
BEGIN:STANDARD
TZOFFSETFROM:-0400
TZOFFSETTO:-0500
TZNAME:EST
DTSTART:20261101T060000
END:STANDARD
BEGIN:DAYLIGHT
TZOFFSETFROM:-0500
TZOFFSETTO:-0400
TZNAME:EDT
DTSTART:20270314T070000
END:DAYLIGHT
BEGIN:STANDARD
TZOFFSETFROM:-0400
TZOFFSETTO:-0500
TZNAME:EST
DTSTART:20271107T060000
END:STANDARD
END:VTIMEZONE
BEGIN:VEVENT
DTSTART;TZID=America/Indiana/Indianapolis:20260418T090000
DTEND;TZID=America/Indiana/Indianapolis:20260418T150000
DTSTAMP:20260420T020738
CREATED:20260114T182342Z
LAST-MODIFIED:20260114T182342Z
UID:3191-1776502800-1776524400@defensiveshootingconcepts.com
SUMMARY:Handgun Skills and Advanced Tactics
DESCRIPTION:Handgun Skills and Advanced Tactics is a pistol course designed specifically for those who are looking to improve their foundation and skills. This class will assist with taking you to the next level when using your handgun. During the class\, students will receive lecture covering various topics pertaining to handgun skills and tactics. Students are given advanced skills and a mindset to carry and use a handgun for defensive purposes. Students will learn to use their firearm safely\, quickly\, and instinctively by having the opportunity to perform dry firing drills under the guidance of a Certified Instructor; thus giving them the chance to practice the skills learned prior to attempting them under live fire conditions. The live fire drills will then be used to reinforce all the topics covered during the training. Again\, Handgun Skills and Advanced Tactics was designed to take you to the next level and help you to understand the importance of the skill set needed to properly handle and use a firearm for defensive purposes. If you currently use or have considered using your firearm for protection purposes\, Handgun Skills and Advanced Tactics is for you! \nTopics Covered:\nStudents will begin this course with a review of the Four Firearm Safety Rules and Seven Fundamentals of Shooting a Handgun. Then we will quickly move into the skills and tactics needed to properly deploy and use a handgun for defensive purposes. This will include the proper technique for drawing from a holster and getting on target instinctively. We will cover combat and tactical reloading. Students will be trained in the immediate action drill\, as well as how to recognize and fix a type 1\, 2\, or 3 malfunction. As we move forward\, we will train on different shooting positions while also working on strong hand and support hand only shooting\, partnered with shooting from behind cover and at moving targets. Shot placement and failure drills will also be discussed. \nStudent Requirements:\n\nAt least one serviceable handgun\nAt least 3 magazines or speed loaders\nA good quality strong side holster designed for the handgun being used (No cross draw or shoulder holsters allowed\, Nylon holsters are also not   recommended) also a spare magazine pouch\nEye and Ear protection and proper range attire\n200 rounds of new manufactured ammunition for range use\nAlso recommended  Knee Pads (Drills will be conducted on gravel)\nA snack and something to drink\n\n  \nTuition: $185.  This includes your range fee.  Successful completion of this class by demonstrating safe gun handling skills will earn you a $25 voucher for future classes with Defensive Shooting Concepts. \nThank you for your consideration and contact me if you have any further questions or would like to discuss options for training.
URL:https://defensiveshootingconcepts.com/event/handgun-skills-and-advanced-tactics/
LOCATION:Atlanta Conservation Club\, 29595 Leonard Rd\, Atlanta\, IN\, 46031\, United States
CATEGORIES:Advanced,Handgun,Tactical
ATTACH;FMTTYPE=image/jpeg:https://defensiveshootingconcepts.com/wp-content/uploads/2020/12/rds39-scaled.jpg
END:VEVENT
END:VCALENDAR